BEGIN:VCALENDAR
VERSION:2.0
CALSCALE:GREGORIAN
PRODID:adamgibbons/ics
METHOD:PUBLISH
X-PUBLISHED-TTL:PT1H
BEGIN:VEVENT
UID:85@warszawa.askapunk.net
SUMMARY:Traidora / Deathknell - Punk Transfeminista Express
DTSTAMP:20260422T142102Z
DTSTART:20260607T170000Z
DTEND:20260607T210000Z
DESCRIPTION:zaklepcie sobie ten niedzielny wieczór w kalendarzu\, bo queero
	wy ekspres\nmiędzymiastowy kierowany przez wenezuelsko-angielską Traidorę 
	zatrzymuje się na\nstacji Warszawa - Młodsza Siostra.\n\nTRAIDORA (Wenezue
	la/UK hardcore punk)\nw roku 2023 Eva Leblanc wypuściła surowe demko swoje
	go solowego hc punkowego\nprojektu\, w 2025tym w jego w pełni queerowy lin
	eup liczył już cztery osoby\, a\n7mego czerwca roku 2026tego lineup rzeczo
	ny wybiera się do Warszawy celem\nwygłoszenia 30-minutowego wykładu o inte
	rkontynentalnym transfeminiźmie w języku\nhiszpańskim dla oczytanego grona
	 fanów muzyki z elementami zagrożenia. można się\nwiele dowiedzieć!\nhttps
	://traidorapunx.bandcamp.com/.../una-mujer-trans-sin...\n[https://traidora
	punx.bandcamp.com/.../una-mujer-trans-sin...]\n\nDEATHKNELL (Wwa powerviol
	ence)\nznani i lubiani lokalni magistrowie hałasu dołączą do gośćiń z zach
	odu\, by\nzaprezentować obecnym praktyczne zastosowania ich teorii łączeni
	a hardcore'u z\ngrindem.\nhttps://deathknellwarsaw.bandcamp.com/album/deat
	hknell\n[https://deathknellwarsaw.bandcamp.com/album/deathknell]\n\nidealn
	y plan na niedzielę dla wszystkich niedostymulowanych po sobotnim chaosie\
	nulicy Puławskiej u progu koleżanek i kolegów z Constant East. tysiąc słów
	 nie\nwyraziłoby NO BORDERS lepiej niż międzynarodowy weekend w doborowym 
	gronie.\n\n07.06.2026\, 30 polskich nowych\, Młodsza Siostra na Powiślu.\n
	\nplakat: Apolonia Mei Ester
URL:https://warszawa.askapunk.net/event/traidora-deathknell-punk-transfemin
	ista-express
GEO:52.2377222;21.0297243
LOCATION:Klubojadalnia Młodsza Siostra - 14/16\, Dobra\, Powiśle-Skarpa\, P
	owiśle\, Śródmieście\, Warszawa\, województwo mazowieckie\, 00-388\, Polsk
	a
STATUS:CONFIRMED
CATEGORIES:hardcore punk,powerviolence
X-ALT-DESC;FMTTYPE=text/html:<p>zaklepcie sobie ten niedzielny wieczór w ka
	lendarzu, bo queerowy ekspres międzymiastowy kierowany przez wenezuelsko-a
	ngielską Traidorę zatrzymuje się na stacji Warszawa - Młodsza Siostra.</p>
	<p>TRAIDORA (Wenezuela/UK hardcore punk)<br>w roku 2023 Eva Leblanc wypuśc
	iła surowe demko swojego solowego hc punkowego projektu, w 2025tym w jego 
	w pełni queerowy lineup liczył już cztery osoby, a 7mego czerwca roku 2026
	tego lineup rzeczony wybiera się do Warszawy celem wygłoszenia 30-minutowe
	go wykładu o interkontynentalnym transfeminiźmie w języku hiszpańskim dla 
	oczytanego grona fanów muzyki z elementami zagrożenia. można się wiele dow
	iedzieć!<br><a target="_blank" href="https://traidorapunx.bandcamp.com/...
	/una-mujer-trans-sin..."><strong>https://traidorapunx.bandcamp.com/.../una
	-mujer-trans-sin...</strong></a></p><p>DEATHKNELL (Wwa powerviolence)<br>z
	nani i lubiani lokalni magistrowie hałasu dołączą do gośćiń z zachodu, by 
	zaprezentować obecnym praktyczne zastosowania ich teorii łączenia hardcore
	'u z grindem.<br><a target="_blank" href="https://deathknellwarsaw.bandcam
	p.com/album/deathknell"><strong>https://deathknellwarsaw.bandcamp.com/albu
	m/deathknell</strong></a></p><p>idealny plan na niedzielę dla wszystkich n
	iedostymulowanych po sobotnim chaosie ulicy Puławskiej u progu koleżanek i
	 kolegów z Constant East. tysiąc słów nie wyraziłoby NO BORDERS lepiej niż
	 międzynarodowy weekend w doborowym gronie.</p><p>07.06.2026, 30 polskich 
	nowych, Młodsza Siostra na Powiślu.</p><p>plakat: Apolonia Mei Ester</p>
BEGIN:VALARM
ACTION:DISPLAY
DESCRIPTION:Traidora / Deathknell - Punk Transfeminista Express
TRIGGER:-PT1H
END:VALARM
END:VEVENT
END:VCALENDAR
