BEGIN:VCALENDAR
VERSION:2.0
CALSCALE:GREGORIAN
PRODID:adamgibbons/ics
METHOD:PUBLISH
X-PUBLISHED-TTL:PT1H
BEGIN:VEVENT
UID:86@warszawa.askapunk.net
SUMMARY:The Goblin Garden x Kopuła.9: Final Heaven / Spopielony
DTSTAMP:20260422T161951Z
DTSTART:20260516T140000Z
DTEND:20260516T170000Z
URL:https://warszawa.askapunk.net/event/the-goblin-garden-x-kopula9-final-h
	eaven-spopielony
GEO:52.1925665;20.9732243
LOCATION:Kopuła.9 - 9\, Ustrzycka\, Jadwisin\, Okęcie\, Włochy\, Warszawa\,
	 województwo mazowieckie\, 02-141\, Polska
STATUS:CONFIRMED
CATEGORIES:dungeon synth
END:VEVENT
END:VCALENDAR
