BEGIN:VCALENDAR
VERSION:2.0
CALSCALE:GREGORIAN
PRODID:adamgibbons/ics
METHOD:PUBLISH
X-PUBLISHED-TTL:PT1H
BEGIN:VEVENT
UID:87@warszawa.askapunk.net
SUMMARY:SUBURBAN WAVE! vol.III - JUŻ NIE ŻYJESZ / KOŃ / HATESTORY / NAMELES
	S CREATIONS / DEAD TAHITI
DTSTAMP:20260422T180819Z
DTSTART:20260620T140000Z
DTEND:20260620T220000Z
URL:https://warszawa.askapunk.net/event/suburban-wave-voliii-juz-nie-zyjesz
	-kon-hatestory-nameless-creations-dead-tahiti
GEO:52.0984469;21.3354648
LOCATION:Pogorzel Warszawska - 68\, Sportowa\, Pogorzel\, gmina Celestynów\
	, powiat otwocki\, województwo mazowieckie\, 05-430\, Polska
STATUS:CONFIRMED
CATEGORIES:goth,post-punk
END:VEVENT
END:VCALENDAR
